BEGIN:VCALENDAR
VERSION:2.0
PRODID:-//Sabre//Sabre VObject 4.5.8//EN
CALSCALE:GREGORIAN
BEGIN:VEVENT
UID:sabre-vobject-97ddb131-2e29-451a-b973-edf01e120164
DTSTAMP:20260422T120826Z
SUMMARY:Büchereizeit: Was ist denn das für eine Jahreszeit?
DESCRIPTION:https://regioningolstadt.com/buechereizeit-was-ist-denn-das-fue
 r-eine-jahreszeit_id35092
DTSTART;TZID=Europe/Berlin:20250115T150000
DURATION:PT30M
LOCATION:Stadtteilbücherei Südwest\, Maximilianstraße 25\, 85051 Ingolst
 adt
END:VEVENT
END:VCALENDAR
