BEGIN:VCALENDAR
VERSION:2.0
PRODID:-//Sabre//Sabre VObject 4.5.8//EN
CALSCALE:GREGORIAN
BEGIN:VEVENT
UID:sabre-vobject-19fe2560-b838-4b3e-8e28-db18954ed7c7
DTSTAMP:20260424T031731Z
SUMMARY:Büchereizeit: Leonard - Ein Traktor bringt Licht ins Dunkel
DESCRIPTION:https://regioningolstadt.com/buechereizeit-leonard-ein-traktor-
 bringt-licht-ins-dunkel_id35091
DTSTART;TZID=Europe/Berlin:20250109T150000
DURATION:PT30M
LOCATION:Stadtbücherei im Herzogskasten\, Hallstraße 2 - 4\, 85049 Ingols
 tadt
END:VEVENT
END:VCALENDAR
