BEGIN:VCALENDAR
VERSION:2.0
PRODID:-//Sabre//Sabre VObject 4.5.8//EN
CALSCALE:GREGORIAN
BEGIN:VEVENT
UID:sabre-vobject-8c6bfe2d-6a71-4a10-ae14-31465af133bd
DTSTAMP:20260424T060838Z
SUMMARY:Büchereizeit: Leonard - Ein Traktor bringt Licht ins Dunkel
DESCRIPTION:https://regioningolstadt.com/buechereizeit-leonard-ein-traktor-
 bringt-licht-ins-dunkel_id35090
DTSTART;TZID=Europe/Berlin:20250108T150000
DURATION:PT30M
LOCATION:Stadtteilbücherei Südwest\, Maximilianstraße 25\, 85051 Ingolst
 adt
END:VEVENT
END:VCALENDAR
