BEGIN:VCALENDAR
VERSION:2.0
PRODID:-//Sabre//Sabre VObject 4.5.8//EN
CALSCALE:GREGORIAN
BEGIN:VEVENT
UID:sabre-vobject-a9a337c3-0df5-4309-b429-ea554ad5b943
DTSTAMP:20260423T175159Z
SUMMARY:Büchereizeit: Ein wunderbares Weihnachtslied
DESCRIPTION:https://regioningolstadt.com/buechereizeit-ein-wunderbares-weih
 nachtslied_id35089
DTSTART;TZID=Europe/Berlin:20241219T150000
DURATION:PT30M
LOCATION:Stadtbücherei im Herzogskasten\, Hallstraße 2 - 4\, 85049 Ingols
 tadt
END:VEVENT
END:VCALENDAR
