BEGIN:VCALENDAR
VERSION:2.0
PRODID:-//Sabre//Sabre VObject 4.5.8//EN
CALSCALE:GREGORIAN
BEGIN:VEVENT
UID:sabre-vobject-c74e298d-121c-4a90-b8d0-483922b7ddbb
DTSTAMP:20260423T102833Z
SUMMARY:Büchereizeit: Ein wunderbares Weihnachtslied
DESCRIPTION:https://regioningolstadt.com/buechereizeit-ein-wunderbares-weih
 nachtslied_id35088
DTSTART;TZID=Europe/Berlin:20241218T150000
DURATION:PT30M
LOCATION:Stadtteilbücherei Südwest\, Maximilianstraße 25\, 85051 Ingolst
 adt
END:VEVENT
END:VCALENDAR
