BEGIN:VCALENDAR
VERSION:2.0
PRODID:-//Sabre//Sabre VObject 4.5.8//EN
CALSCALE:GREGORIAN
BEGIN:VEVENT
UID:sabre-vobject-7b8c72ce-3876-4e5d-8877-26b3c3c27a74
DTSTAMP:20260423T030605Z
SUMMARY:Wer dablost's - die Kabarett-Mixed-Show mit Andreas M. Hofmeir
DESCRIPTION:https://regioningolstadt.com/wer-dablost-s-die-kabarett-mixed-s
 how-mit-andreas-m-hofmeir_id35087
DTSTART;TZID=Europe/Berlin:20241215T200000
DURATION:PT30M
LOCATION:Kulturzentrum neun\, Elisabethstraße 9 a\, 85051 Ingolstadt
END:VEVENT
END:VCALENDAR
