BEGIN:VCALENDAR
VERSION:2.0
PRODID:-//Sabre//Sabre VObject 4.5.8//EN
CALSCALE:GREGORIAN
BEGIN:VEVENT
UID:sabre-vobject-ebd42c17-50aa-4534-9f08-84b67f0d3cbc
DTSTAMP:20260421T172411Z
SUMMARY:Büchereizeit: Der überraschende Weihnachtsbrief
DESCRIPTION:https://regioningolstadt.com/buechereizeit-der-ueberraschende-w
 eihnachtsbrief_id35086
DTSTART;TZID=Europe/Berlin:20241212T150000
DURATION:PT30M
LOCATION:Stadtbücherei im Herzogskasten\, Hallstraße 2 - 4\, 85049 Ingols
 tadt
END:VEVENT
END:VCALENDAR
