BEGIN:VCALENDAR
VERSION:2.0
PRODID:-//Sabre//Sabre VObject 4.5.8//EN
CALSCALE:GREGORIAN
BEGIN:VEVENT
UID:sabre-vobject-9afecac6-0474-456d-b533-6c539ef16ee6
DTSTAMP:20260419T125242Z
SUMMARY:Büchereizeit: Der überraschende Weihnachtsbrief
DESCRIPTION:https://regioningolstadt.com/buechereizeit-der-ueberraschende-w
 eihnachtsbrief_id35085
DTSTART;TZID=Europe/Berlin:20241211T150000
DURATION:PT30M
LOCATION:Stadtteilbücherei Südwest\, Maximilianstraße 25\, 85051 Ingolst
 adt
END:VEVENT
END:VCALENDAR
