BEGIN:VCALENDAR
VERSION:2.0
PRODID:-//Sabre//Sabre VObject 4.5.8//EN
CALSCALE:GREGORIAN
BEGIN:VEVENT
UID:sabre-vobject-1e0b8f53-2400-40bd-bac6-b9ee06e79bf6
DTSTAMP:20260421T195858Z
SUMMARY:Büchereizeit: Der kleine Beuteldachs - ganz schön neugierig
DESCRIPTION:https://regioningolstadt.com/buechereizeit-der-kleine-beuteldac
 hs-ganz-schoen-neugierig_id35071
DTSTART;TZID=Europe/Berlin:20241107T150000
DURATION:PT30M
LOCATION:Stadtbücherei im Herzogskasten\, Hallstraße 2 - 4\, 85049 Ingols
 tadt
END:VEVENT
END:VCALENDAR
