BEGIN:VCALENDAR
VERSION:2.0
PRODID:-//Sabre//Sabre VObject 4.5.8//EN
CALSCALE:GREGORIAN
BEGIN:VEVENT
UID:sabre-vobject-ac3a6e75-3e09-4031-94cf-c22ed53fb9dc
DTSTAMP:20260422T014356Z
SUMMARY:Büchereizeit: Der kleine Beuteldachs - ganz schön neugierig
DESCRIPTION:https://regioningolstadt.com/buechereizeit-der-kleine-beuteldac
 hs-ganz-schoen-neugierig_id35070
DTSTART;TZID=Europe/Berlin:20241106T150000
DURATION:PT30M
LOCATION:Stadtteilbücherei Südwest\, Maximilianstraße 25\, 85051 Ingolst
 adt
END:VEVENT
END:VCALENDAR
