BEGIN:VCALENDAR
VERSION:2.0
PRODID:-//Sabre//Sabre VObject 4.5.8//EN
CALSCALE:GREGORIAN
BEGIN:VEVENT
UID:sabre-vobject-32087cd7-a4c5-49fe-a315-fa73c865c2dc
DTSTAMP:20260422T192328Z
SUMMARY:Führung: Victor Frankenstein und die Anatomie
DESCRIPTION:https://regioningolstadt.com/fuehrung-victor-frankenstein-und-d
 ie-anatomie_id35069
DTSTART;TZID=Europe/Berlin:20241103T150000
DTEND;TZID=Europe/Berlin:20241103T160000
LOCATION:Deutsches Medizinhistorisches Museum\, Anatomiestraße 18 – 20\,
  85049 Ingolstadt
END:VEVENT
END:VCALENDAR
