BEGIN:VCALENDAR
VERSION:2.0
PRODID:-//Sabre//Sabre VObject 4.5.8//EN
CALSCALE:GREGORIAN
BEGIN:VEVENT
UID:sabre-vobject-75c20aa4-cfc3-4b47-8cd3-5c7eff59cf8b
DTSTAMP:20260420T013513Z
SUMMARY:Jazztage: Jazz in den Kneipen  Hochzeitskapelle
DESCRIPTION:https://regioningolstadt.com/jazztage-jazz-in-den-kneipen-hochz
 eitskapelle_id34968
DTSTART;TZID=Europe/Berlin:20241107T213000
DURATION:PT30M
LOCATION:Griesmüllers Altstadtbrauerei\, Schulstraße 19\, 85049 Ingolstad
 t
END:VEVENT
END:VCALENDAR
