BEGIN:VCALENDAR
VERSION:2.0
PRODID:-//Sabre//Sabre VObject 4.5.8//EN
CALSCALE:GREGORIAN
BEGIN:VEVENT
UID:sabre-vobject-42fecdf7-25b1-4506-9fb2-8dff4d8ab489
DTSTAMP:20260420T013453Z
SUMMARY:Jazztage: Jazz in den Kneipen  Julia Hornung & Giangiacomo Rosso  E
 uropean Gypsy Connection
DESCRIPTION:https://regioningolstadt.com/jazztage-jazz-in-den-kneipen-julia
 -hornung-giangiacomo-rosso-european-gypsy-connection_id34967
DTSTART;TZID=Europe/Berlin:20241107T213000
DURATION:PT30M
LOCATION:Weinraum\, Bei der Schleifmühle 24\, 85049 Ingolstadt
END:VEVENT
END:VCALENDAR
