BEGIN:VCALENDAR
VERSION:2.0
PRODID:-//Sabre//Sabre VObject 4.5.8//EN
CALSCALE:GREGORIAN
BEGIN:VEVENT
UID:sabre-vobject-68708893-8b95-4780-a25f-2ff5742dfbbe
DTSTAMP:20260419T144624Z
SUMMARY:Jazztage: Jazz in den Kneipen  Lisa Wahlandt and her fabulous Boss 
 Nova Band
DESCRIPTION:https://regioningolstadt.com/jazztage-jazz-in-den-kneipen-lisa-
 wahlandt-and-her-fabulous-boss-nova-band_id34966
DTSTART;TZID=Europe/Berlin:20241107T213000
DURATION:PT30M
LOCATION:Neue Galerie\, das MO\, Bergbräustraße 7\, 85049 Ingolstadt
END:VEVENT
END:VCALENDAR
