BEGIN:VCALENDAR
VERSION:2.0
PRODID:-//Sabre//Sabre VObject 4.5.8//EN
CALSCALE:GREGORIAN
BEGIN:VEVENT
UID:sabre-vobject-3b68c637-6585-4143-b0b9-d3b410297412
DTSTAMP:20260420T013503Z
SUMMARY:Jazztage: Jazz in den Kneipen  Modesha
DESCRIPTION:https://regioningolstadt.com/jazztage-jazz-in-den-kneipen-modes
 ha_id34965
DTSTART;TZID=Europe/Berlin:20241107T213000
DURATION:PT30M
LOCATION:The Golden\, Kupferstraße 28\, 85049 Ingolstadt
END:VEVENT
END:VCALENDAR
