BEGIN:VCALENDAR
VERSION:2.0
PRODID:-//Sabre//Sabre VObject 4.5.8//EN
CALSCALE:GREGORIAN
BEGIN:VEVENT
UID:sabre-vobject-866549c2-00c3-4f6e-852d-29b192dfcd19
DTSTAMP:20260420T063410Z
SUMMARY:Jazztage: Jazz in den Kneipen  The Yellow Pack
DESCRIPTION:https://regioningolstadt.com/jazztage-jazz-in-den-kneipen-the-y
 ellow-pack_id34964
DTSTART;TZID=Europe/Berlin:20241107T210000
DURATION:PT30M
LOCATION:Rosengasse 2\, Große Rosengasse 2\, 85049 Ingolstadt
END:VEVENT
END:VCALENDAR
