BEGIN:VCALENDAR
VERSION:2.0
PRODID:-//Sabre//Sabre VObject 4.5.8//EN
CALSCALE:GREGORIAN
BEGIN:VEVENT
UID:sabre-vobject-cf27b3e6-bfcc-41a2-90bd-d7820a473aa6
DTSTAMP:20260420T100045Z
SUMMARY:Jazztage: Jazz in den Kneipen  CHOK
DESCRIPTION:https://regioningolstadt.com/jazztage-jazz-in-den-kneipen-chok_
 id34963
DTSTART;TZID=Europe/Berlin:20241107T210000
DURATION:PT30M
LOCATION:Neue Welt\, Griesbadgasse 7\, 85049 Ingolstadt
END:VEVENT
END:VCALENDAR
