BEGIN:VCALENDAR
VERSION:2.0
PRODID:-//Sabre//Sabre VObject 4.5.8//EN
CALSCALE:GREGORIAN
BEGIN:VEVENT
UID:sabre-vobject-8eb7e655-4827-4f37-82c1-80cd39d54048
DTSTAMP:20260420T045536Z
SUMMARY:Jazztage: Jazz in den Kneipen  Urs Invites
DESCRIPTION:https://regioningolstadt.com/jazztage-jazz-in-den-kneipen-urs-i
 nvites_id34962
DTSTART;TZID=Europe/Berlin:20241107T210000
DURATION:PT30M
LOCATION:Havana Bar\, Kupferstraße 24\, 85049 Ingolstadt
END:VEVENT
END:VCALENDAR
