BEGIN:VCALENDAR
VERSION:2.0
PRODID:-//Sabre//Sabre VObject 4.5.8//EN
CALSCALE:GREGORIAN
BEGIN:VEVENT
UID:sabre-vobject-06dd4065-72c4-43b1-97f1-12917e02e854
DTSTAMP:20260420T082108Z
SUMMARY:Jazztage: Jazz in den Kneipen  Sandro Roy Unity Trio
DESCRIPTION:https://regioningolstadt.com/jazztage-jazz-in-den-kneipen-sandr
 o-roy-unity-trio_id34961
DTSTART;TZID=Europe/Berlin:20241107T210000
DURATION:PT30M
LOCATION:Granada\, Dollstraße 9\, 85049 Ingolstadt
END:VEVENT
END:VCALENDAR
