BEGIN:VCALENDAR
VERSION:2.0
PRODID:-//Sabre//Sabre VObject 4.5.8//EN
CALSCALE:GREGORIAN
BEGIN:VEVENT
UID:sabre-vobject-ce2cff35-3839-4d6d-a0e5-7ffe05d75528
DTSTAMP:20260420T113120Z
SUMMARY:Jazztage: Jazz in den Kneipen  AylinŽs Soulgarden
DESCRIPTION:https://regioningolstadt.com/jazztage-jazz-in-den-kneipen-aylin
 zs-soulgarden_id34960
DTSTART;TZID=Europe/Berlin:20241107T210000
DURATION:PT30M
LOCATION:Antalya\, Dollstraße 6\, 85049 Ingolstadt
END:VEVENT
END:VCALENDAR
