BEGIN:VCALENDAR
VERSION:2.0
PRODID:-//Sabre//Sabre VObject 4.5.8//EN
CALSCALE:GREGORIAN
BEGIN:VEVENT
UID:sabre-vobject-bab1d0c3-2e88-4f01-b0bc-f80567aa2954
DTSTAMP:20260420T235257Z
SUMMARY:Jazztage: Jazz in den Kneipen  Ferge X Fisherman und Nujakasha
DESCRIPTION:https://regioningolstadt.com/jazztage-jazz-in-den-kneipen-ferge
 -x-fisherman-und-nujakasha_id34958
DTSTART;TZID=Europe/Berlin:20241107T203000
DURATION:PT30M
LOCATION:Tagtraum\, Paradeplatz 3\, 85049 Ingolstadt
END:VEVENT
END:VCALENDAR
