BEGIN:VCALENDAR
VERSION:2.0
PRODID:-//Sabre//Sabre VObject 4.5.8//EN
CALSCALE:GREGORIAN
BEGIN:VEVENT
UID:sabre-vobject-6627b165-321f-427d-a634-29951e0ddef5
DTSTAMP:20260420T192426Z
SUMMARY:Jazztage: Jazz in den Kneipen  Jazz Elegance feat. Mirelle Hanke
DESCRIPTION:https://regioningolstadt.com/jazztage-jazz-in-den-kneipen-jazz-
 elegance-feat-mirelle-hanke_id34957
DTSTART;TZID=Europe/Berlin:20241107T203000
DURATION:PT30M
LOCATION:Weinraum\, Bei der Schleifmühle 24\, 85049 Ingolstadt
END:VEVENT
END:VCALENDAR
