BEGIN:VCALENDAR
VERSION:2.0
PRODID:-//Sabre//Sabre VObject 4.5.8//EN
CALSCALE:GREGORIAN
BEGIN:VEVENT
UID:sabre-vobject-ad8b7529-0800-4ce8-af46-61106e88329d
DTSTAMP:20260420T174935Z
SUMMARY:Jazztage: Jazz in den Kneipen  Lisa Wahlandt and her fabulous Boss 
 Nova Band
DESCRIPTION:https://regioningolstadt.com/jazztage-jazz-in-den-kneipen-lisa-
 wahlandt-and-her-fabulous-boss-nova-band_id34955
DTSTART;TZID=Europe/Berlin:20241107T203000
DURATION:PT30M
LOCATION:Neue Galerie\, das MO\, Bergbräustraße 7\, 85049 Ingolstadt
END:VEVENT
END:VCALENDAR
