BEGIN:VCALENDAR
VERSION:2.0
PRODID:-//Sabre//Sabre VObject 4.5.8//EN
CALSCALE:GREGORIAN
BEGIN:VEVENT
UID:sabre-vobject-e852e9c2-06ee-4733-aa9c-5dd95264b101
DTSTAMP:20260420T204606Z
SUMMARY:Jazztage: Jazz in den Kneipen  Ina Forsman
DESCRIPTION:https://regioningolstadt.com/jazztage-jazz-in-den-kneipen-ina-f
 orsman_id34954
DTSTART;TZID=Europe/Berlin:20241107T203000
DURATION:PT30M
LOCATION:Diagonal\, Kreuzstraße 12\, 85049 Ingolstadt
END:VEVENT
END:VCALENDAR
