BEGIN:VCALENDAR
VERSION:2.0
PRODID:-//Sabre//Sabre VObject 4.5.8//EN
CALSCALE:GREGORIAN
BEGIN:VEVENT
UID:sabre-vobject-dc02ea2d-f798-4baf-a5c8-0e87248898e5
DTSTAMP:20260420T161332Z
SUMMARY:Jazztage: Jazz in den Kneipen  Matti Klein Soul Trio
DESCRIPTION:https://regioningolstadt.com/jazztage-jazz-in-den-kneipen-matti
 -klein-soul-trio_id34953
DTSTART;TZID=Europe/Berlin:20241107T203000
DURATION:PT30M
LOCATION:Bar Zwölf\, Kreuzstraße 6\, 85049 Ingolstadt
END:VEVENT
END:VCALENDAR
