BEGIN:VCALENDAR
VERSION:2.0
PRODID:-//Sabre//Sabre VObject 4.5.8//EN
CALSCALE:GREGORIAN
BEGIN:VEVENT
UID:sabre-vobject-09748423-56cf-4e1a-8713-8b481a7b86ef
DTSTAMP:20260421T025432Z
SUMMARY:Jazztage: Jazz in den Kneipen  The Yellow Pack
DESCRIPTION:https://regioningolstadt.com/jazztage-jazz-in-den-kneipen-the-y
 ellow-pack_id34952
DTSTART;TZID=Europe/Berlin:20241107T200000
DURATION:PT30M
LOCATION:Rosengasse 2\, Große Rosengasse 2\, 85049 Ingolstadt
END:VEVENT
END:VCALENDAR
