BEGIN:VCALENDAR
VERSION:2.0
PRODID:-//Sabre//Sabre VObject 4.5.8//EN
CALSCALE:GREGORIAN
BEGIN:VEVENT
UID:sabre-vobject-60d3fbd3-0d28-400a-8749-ef4d9f95b0d0
DTSTAMP:20260421T060026Z
SUMMARY:Jazztage: Jazz in den Kneipen  Julia Hornung & Giangiacomo Rosso  E
 uropean Gypsy Connection
DESCRIPTION:https://regioningolstadt.com/jazztage-jazz-in-den-kneipen-julia
 -hornung-giangiacomo-rosso-european-gypsy-connection_id34950
DTSTART;TZID=Europe/Berlin:20241107T193000
DURATION:PT30M
LOCATION:Weinraum\, Bei der Schleifmühle 24\, 85049 Ingolstadt
END:VEVENT
END:VCALENDAR
