BEGIN:VCALENDAR
VERSION:2.0
PRODID:-//Sabre//Sabre VObject 4.5.8//EN
CALSCALE:GREGORIAN
BEGIN:VEVENT
UID:sabre-vobject-454a1789-d2d7-4fcc-ae11-3b918a894bc6
DTSTAMP:20260421T073505Z
SUMMARY:Jazztage: Jazz in den Kneipen  Ina Forsman
DESCRIPTION:https://regioningolstadt.com/jazztage-jazz-in-den-kneipen-ina-f
 orsman_id34949
DTSTART;TZID=Europe/Berlin:20241107T193000
DURATION:PT30M
LOCATION:Diagonal\, Kreuzstraße 12\, 85049 Ingolstadt
END:VEVENT
END:VCALENDAR
