BEGIN:VCALENDAR
VERSION:2.0
PRODID:-//Sabre//Sabre VObject 4.5.8//EN
CALSCALE:GREGORIAN
BEGIN:VEVENT
UID:sabre-vobject-3925acc5-4fb1-4840-815f-45023d399896
DTSTAMP:20260421T043243Z
SUMMARY:Jazztage: Jazz in den Kneipen  Matti Klein Soul Trio
DESCRIPTION:https://regioningolstadt.com/jazztage-jazz-in-den-kneipen-matti
 -klein-soul-trio_id34948
DTSTART;TZID=Europe/Berlin:20241107T193000
DURATION:PT30M
LOCATION:Bar Zwölf\, Kreuzstraße 6\, 85049 Ingolstadt
END:VEVENT
END:VCALENDAR
