BEGIN:VCALENDAR
VERSION:2.0
PRODID:-//Sabre//Sabre VObject 4.5.8//EN
CALSCALE:GREGORIAN
BEGIN:VEVENT
UID:sabre-vobject-4b2c3882-7919-4d72-b6a1-040856753b6c
DTSTAMP:20260421T091537Z
SUMMARY:Jazztage: Jazz in den Kneipen  Ajam Quartet
DESCRIPTION:https://regioningolstadt.com/jazztage-jazz-in-den-kneipen-ajam-
 quartet_id34947
DTSTART;TZID=Europe/Berlin:20241107T193000
DURATION:PT30M
LOCATION:Griesmüllers Altstadtbrauerei\, Schulstraße 19\, 85049 Ingolstad
 t
END:VEVENT
END:VCALENDAR
