BEGIN:VCALENDAR
VERSION:2.0
PRODID:-//Sabre//Sabre VObject 4.5.8//EN
CALSCALE:GREGORIAN
BEGIN:VEVENT
UID:sabre-vobject-7f992d63-cbde-4faf-b892-49dbc65f072f
DTSTAMP:20260421T104550Z
SUMMARY:Jazztage: Jazz in den Kneipen  Sinfonia de Carnaval
DESCRIPTION:https://regioningolstadt.com/jazztage-jazz-in-den-kneipen-sinfo
 nia-de-carnaval_id34946
DTSTART;TZID=Europe/Berlin:20241107T190000
DURATION:PT30M
LOCATION:Neue Welt\, Griesbadgasse 7\, 85049 Ingolstadt
END:VEVENT
END:VCALENDAR
