BEGIN:VCALENDAR
VERSION:2.0
PRODID:-//Sabre//Sabre VObject 4.5.8//EN
CALSCALE:GREGORIAN
BEGIN:VEVENT
UID:sabre-vobject-c4a74463-5d3b-4296-9079-8cf989aa2362
DTSTAMP:20260421T122811Z
SUMMARY:Jazztage: Jazz in den Kneipen  Bokoya
DESCRIPTION:https://regioningolstadt.com/jazztage-jazz-in-den-kneipen-bokoy
 a_id34945
DTSTART;TZID=Europe/Berlin:20241107T190000
DURATION:PT30M
LOCATION:Tagtraum\, Paradeplatz 3\, 85049 Ingolstadt
END:VEVENT
END:VCALENDAR
