BEGIN:VCALENDAR
VERSION:2.0
PRODID:-//Sabre//Sabre VObject 4.5.8//EN
CALSCALE:GREGORIAN
BEGIN:VEVENT
UID:sabre-vobject-825b0657-2d42-4abd-873e-af927b41b2da
DTSTAMP:20260421T165641Z
SUMMARY:Jazztage: Jazz in den Kneipen  Jazz Elegance feat. Mirelle Hanke
DESCRIPTION:https://regioningolstadt.com/jazztage-jazz-in-den-kneipen-jazz-
 elegance-feat-mirelle-hanke_id34944
DTSTART;TZID=Europe/Berlin:20241107T183000
DURATION:PT30M
LOCATION:Weinraum\, Bei der Schleifmühle 24\, 85049 Ingolstadt
END:VEVENT
END:VCALENDAR
