BEGIN:VCALENDAR
VERSION:2.0
PRODID:-//Sabre//Sabre VObject 4.5.8//EN
CALSCALE:GREGORIAN
BEGIN:VEVENT
UID:sabre-vobject-cae66d5b-92d3-4403-85b0-68a6e36cf272
DTSTAMP:20260421T183556Z
SUMMARY:Jazztage: Jazz in den Kneipen  Ajam Quartet
DESCRIPTION:https://regioningolstadt.com/jazztage-jazz-in-den-kneipen-ajam-
 quartet_id34943
DTSTART;TZID=Europe/Berlin:20241107T183000
DURATION:PT30M
LOCATION:Griesmüllers Altstadtbrauerei\, Schulstraße 19\, 85049 Ingolstad
 t
END:VEVENT
END:VCALENDAR
