BEGIN:VCALENDAR
VERSION:2.0
PRODID:-//Sabre//Sabre VObject 4.5.8//EN
CALSCALE:GREGORIAN
BEGIN:VEVENT
UID:sabre-vobject-f63133a1-ff99-44e0-b790-1b0f31c39756
DTSTAMP:20260421T212937Z
SUMMARY:ORIENTIERUNGS- UND FÖRDERBERATUNG
DESCRIPTION:https://regioningolstadt.com/orientierungs-und-foerderberatung_
 id34942
DTSTART;TZID=Europe/Berlin:20241107T100000
DTEND;TZID=Europe/Berlin:20241107T120000
LOCATION:Online-Veranstaltung\, \,  
END:VEVENT
END:VCALENDAR
