BEGIN:VCALENDAR
VERSION:2.0
PRODID:-//Sabre//Sabre VObject 4.5.8//EN
CALSCALE:GREGORIAN
BEGIN:VEVENT
UID:sabre-vobject-9f071dc4-431d-423b-80af-68c51c81da71
DTSTAMP:20260421T225025Z
SUMMARY:Jazztage: Jazz Session mit Quirin Birzer
DESCRIPTION:https://regioningolstadt.com/jazztage-jazz-session-mit-quirin-b
 irzer_id34941
DTSTART;TZID=Europe/Berlin:20241106T200000
DURATION:PT30M
LOCATION:Neue Welt\, Griesbadgasse 7\, 85049 Ingolstadt
END:VEVENT
END:VCALENDAR
