BEGIN:VCALENDAR
VERSION:2.0
PRODID:-//Sabre//Sabre VObject 4.5.8//EN
CALSCALE:GREGORIAN
BEGIN:VEVENT
UID:sabre-vobject-e3fbb6b2-2bf3-45cf-b6a9-4d4288d60a47
DTSTAMP:20260422T030545Z
SUMMARY:Jazztage: Jan Garbarek Group feat. Trilok Gurtu
DESCRIPTION:https://regioningolstadt.com/jazztage-jan-garbarek-group-feat-t
 rilok-gurtu_id34940
DTSTART;TZID=Europe/Berlin:20241105T200000
DURATION:PT30M
LOCATION:Festsaal des Stadttheaters Ingolstadt\, Schloßlände 1\, 85049 In
 golstadt
END:VEVENT
END:VCALENDAR
