BEGIN:VCALENDAR
VERSION:2.0
PRODID:-//Sabre//Sabre VObject 4.5.8//EN
CALSCALE:GREGORIAN
BEGIN:VEVENT
UID:sabre-vobject-57892495-9158-4779-a54d-8028dbd2f264
DTSTAMP:20260422T145732Z
SUMMARY:Jazztage: Jazz meets Kabarett  Chris Boettcher & Big Band - AUSVERK
 AUFT
DESCRIPTION:https://regioningolstadt.com/jazztage-jazz-meets-kabarett-chris
 -boettcher-big-band-ausverkauft_id34939
DTSTART;TZID=Europe/Berlin:20241103T200000
DURATION:PT30M
LOCATION:Kulturzentrum neun\, Elisabethstraße 9 a\, 85051 Ingolstadt
END:VEVENT
END:VCALENDAR
