BEGIN:VCALENDAR
VERSION:2.0
PRODID:-//Sabre//Sabre VObject 4.5.8//EN
CALSCALE:GREGORIAN
BEGIN:VEVENT
UID:sabre-vobject-8e615654-c17b-4089-b44d-aa9b37c84cb8
DTSTAMP:20260421T103600Z
SUMMARY:Christkindlmarkt in Schrobenhausen
DESCRIPTION:https://regioningolstadt.com/christkindlmarkt-in-schrobenhausen
 _id34809
DTSTART;TZID=Europe/Berlin:20251211T000000
DTEND;TZID=Europe/Berlin:20251214T000000
LOCATION:Lenbachplatz\, Lenbachplatz\, 86529 Schrobenhausen
END:VEVENT
END:VCALENDAR
