BEGIN:VCALENDAR
VERSION:2.0
PRODID:-//Sabre//Sabre VObject 4.5.8//EN
CALSCALE:GREGORIAN
BEGIN:VEVENT
UID:sabre-vobject-c60b9262-3879-4ffb-93b3-cae9edc29aa0
DTSTAMP:20260421T193610Z
SUMMARY:Sozialer Weihnachtsmarkt
DESCRIPTION:https://regioningolstadt.com/sozialer-weihnachtsmarkt_id34808
DTSTART;TZID=Europe/Berlin:20251128T000000
DTEND;TZID=Europe/Berlin:20251130T000000
LOCATION:86529 Schrobenhausen\, Pflegschloss\, Am Hofgraben 3\, Am Hofgrabe
 n 3\, 86529 Schrobenhausen
END:VEVENT
END:VCALENDAR
