BEGIN:VCALENDAR
VERSION:2.0
PRODID:-//Sabre//Sabre VObject 4.5.8//EN
CALSCALE:GREGORIAN
BEGIN:VEVENT
UID:sabre-vobject-6629cd4e-7b8e-419c-9af2-b921af5c7a1f
DTSTAMP:20260422T090645Z
SUMMARY:Lange Nacht in Schrobenhausen
DESCRIPTION:https://regioningolstadt.com/lange-nacht-in-schrobenhausen_id34
 780
DTSTART;TZID=Europe/Berlin:20251024T180000
DTEND;TZID=Europe/Berlin:20251024T220000
LOCATION:Schrobenhausen Innenstadt
END:VEVENT
END:VCALENDAR
