BEGIN:VCALENDAR
VERSION:2.0
PRODID:-//Sabre//Sabre VObject 4.5.8//EN
CALSCALE:GREGORIAN
BEGIN:VEVENT
UID:sabre-vobject-43921a0a-4379-40a4-860c-93994579ee14
DTSTAMP:20260421T211357Z
SUMMARY:Weinverkostung mit Weinbergführung
DESCRIPTION:https://regioningolstadt.com/weinverkostung-mit-weinbergfuehrun
 g_id34745
DTSTART;TZID=Europe/Berlin:20260613T160000
DTEND;TZID=Europe/Berlin:20260613T190000
LOCATION:Weinberg & Weinhaus Tremml\, \, 86633 Neuburg an der Donau
END:VEVENT
END:VCALENDAR
