BEGIN:VCALENDAR
VERSION:2.0
PRODID:-//Sabre//Sabre VObject 4.5.8//EN
CALSCALE:GREGORIAN
BEGIN:VEVENT
UID:sabre-vobject-160acce3-bd75-4c72-8076-40da11ac8df0
DTSTAMP:20260424T204035Z
SUMMARY:Family Magic Show mit Sven Catello
DESCRIPTION:https://regioningolstadt.com/family-magic-show-mit-sven-catello
 _id34739
DTSTART;TZID=Europe/Berlin:20250105T140000
DTEND;TZID=Europe/Berlin:20250105T150000
LOCATION:Altstadttheater\, Kanalstraße 1 a\, 85049 Ingolstadt
END:VEVENT
END:VCALENDAR
