BEGIN:VCALENDAR
VERSION:2.0
PRODID:-//Sabre//Sabre VObject 4.5.8//EN
CALSCALE:GREGORIAN
BEGIN:VEVENT
UID:sabre-vobject-6e6938f0-c78a-4494-964e-f62a650f2122
DTSTAMP:20260422T024256Z
SUMMARY:Kathreins-Dult
DESCRIPTION:https://regioningolstadt.com/kathreins-dult_id34670
DTSTART;TZID=Europe/Berlin:20251109T000000
DURATION:PT30M
LOCATION:Lenbachstraße\, Lenbachstraße\, 86529 Schrobenhausen
END:VEVENT
END:VCALENDAR
