BEGIN:VCALENDAR
VERSION:2.0
PRODID:-//Sabre//Sabre VObject 4.5.8//EN
CALSCALE:GREGORIAN
BEGIN:VEVENT
UID:sabre-vobject-04e50028-b687-4725-aa84-16eee0893b24
DTSTAMP:20260422T234046Z
SUMMARY:Michaeli-Dult mit verkaufsoffenem Sonntag
DESCRIPTION:https://regioningolstadt.com/michaeli-dult-mit-verkaufsoffenem-
 sonntag_id34669
DTSTART;TZID=Europe/Berlin:20250928T000000
DURATION:PT30M
LOCATION:Lenbachstraße\, Lenbachstraße\, 86529 Schrobenhausen
END:VEVENT
END:VCALENDAR
