BEGIN:VCALENDAR
VERSION:2.0
PRODID:-//Sabre//Sabre VObject 4.5.8//EN
CALSCALE:GREGORIAN
BEGIN:VEVENT
UID:sabre-vobject-7d5a99fb-ee75-4d9e-87ef-6aacd2881226
DTSTAMP:20260421T103651Z
SUMMARY:Gemeinschafts-Geist - Hubers Bairische Wortkunde
DESCRIPTION:https://regioningolstadt.com/gemeinschafts-geist-hubers-bairisc
 he-wortkunde_id34600
DTSTART;TZID=Europe/Berlin:20250116T190000
DURATION:PT30M
LOCATION:VHS Ingolstadt\, Hallstr. 5\, 85049 Ingolstadt
END:VEVENT
END:VCALENDAR
