BEGIN:VCALENDAR
VERSION:2.0
PRODID:-//Sabre//Sabre VObject 4.5.8//EN
CALSCALE:GREGORIAN
BEGIN:VEVENT
UID:sabre-vobject-7876fb7a-a2e6-4e79-b708-029b58f4af8c
DTSTAMP:20260422T042205Z
SUMMARY:Wer wir gewesen sein werden - Filmvorführung mit Besprechung
DESCRIPTION:https://regioningolstadt.com/wer-wir-gewesen-sein-werden-filmvo
 rfuehrung-mit-besprechung_id34599
DTSTART;TZID=Europe/Berlin:20250115T183000
DURATION:PT30M
LOCATION:Volkshochschule Ingolstadt - Kinosaal\, Hallstraße 5\, 85949 Ingo
 lstadt
END:VEVENT
END:VCALENDAR
