BEGIN:VCALENDAR
VERSION:2.0
PRODID:-//Sabre//Sabre VObject 4.5.8//EN
CALSCALE:GREGORIAN
BEGIN:VEVENT
UID:sabre-vobject-46a538f9-94bc-4c4f-bfb1-a7db78e537e8
DTSTAMP:20260421T205303Z
SUMMARY:Schneekönigin - das Musical
DESCRIPTION:https://regioningolstadt.com/schneekoenigin-das-musical_id34476
DTSTART;TZID=Europe/Berlin:20250322T160000
DTEND;TZID=Europe/Berlin:20250322T180000
LOCATION:Stadttheater Ingolstadt\, Schloßlände 1\, 85049 Ingolstadt
END:VEVENT
END:VCALENDAR
