BEGIN:VCALENDAR
VERSION:2.0
PRODID:-//Sabre//Sabre VObject 4.5.8//EN
CALSCALE:GREGORIAN
BEGIN:VEVENT
UID:sabre-vobject-919a6093-f7e4-4471-9d11-5057ac0962e2
DTSTAMP:20260424T113129Z
SUMMARY:ReparaturCafé
DESCRIPTION:https://regioningolstadt.com/reparaturcafe_id34387
DTSTART;TZID=Europe/Berlin:20251108T150000
DTEND;TZID=Europe/Berlin:20251108T180000
LOCATION:Bürgerhaus Neuburger Kasten\, II. OG\, Seminarraum 24\, Fechtgass
 e 6\, 85049 Ingolstadt
END:VEVENT
END:VCALENDAR
