BEGIN:VCALENDAR
VERSION:2.0
PRODID:-//Sabre//Sabre VObject 4.5.8//EN
CALSCALE:GREGORIAN
BEGIN:VEVENT
UID:sabre-vobject-d1d10de6-e256-4c2f-b1ea-16b98c78bb45
DTSTAMP:20260422T112510Z
SUMMARY:ReparaturCafé
DESCRIPTION:https://regioningolstadt.com/reparaturcafe_id34382
DTSTART;TZID=Europe/Berlin:20251206T150000
DTEND;TZID=Europe/Berlin:20251206T180000
LOCATION:Bürgerhaus Neuburger Kasten\, II. OG\, Seminarraum 24\, Fechtgass
 e 6\, 85049 Ingolstadt
END:VEVENT
END:VCALENDAR
